BEGIN:VCALENDAR
VERSION:2.0
PRODID:GIGPRESS 2.0 WORDPRESS PLUGIN
CALSCALE:GREGORIAN
X-WR-TIMEZONE:Etc/GMT
METHOD:PUBLISH
BEGIN:VTIMEZONE
TZID:GMT
BEGIN:STANDARD
DTSTART:20071028T010000
TZOFFSETTO:+0000
TZOFFSETFROM:+0000
END:STANDARD
END:VTIMEZONE
BEGIN:VEVENT
SUMMARY:Veranstaltung "Als der Jazz (fast) seine Freiheit verlor \, NS-Dokumentationszentrum
DESCRIPTION:Kosten: 18 / 15 €. Keine
LOCATION:NS-Dokumentationszentrum\, Max-Mannheimer-Platz 1\, München\, DE
UID:20260702T170000Z-7-mail@thomas-frey.eu
URL:https://www.jazzundfreiheit.de/veranstaltung-als-der-jazz-fast-seine-freiheit-verlor-im-ns-dokumentationszentrum-am-2-juli-2026/
DTSTART;VALUE=DATE-TIME;TZID=GMT:20260702T170000Z
DTEND;VALUE=DATE-TIME;TZID=GMT:20260702T170000Z
DTSTAMP:20260423T084117Z
END:VEVENT
END:VCALENDAR